Workbook

Sheet Catalog
A1: ID | B1: Google Rank | C1: Research | D1: Title | E1: Link | F1: Abstract | G1: Year/Date | H1: Priority | I1: Access | J1: Price | K1: Author/s | L1: Country | M1: Language | N1: Publisher | O1: Industry | P1: Edge (includes Mesh too) | Q1: Digital Twin | R1: Mobility | S1: Security (includes safety too) | T1: Experience | U1: SDG | V1: Research Score | W1: Is Research Killing | X1: Notes
A2: 1 | B2: 1 | C2: First | D2: Digital Twin Empowered Content Caching in Social-Aware Vehicular Edge Networks | E2: https://ieeexplore.ieee.org/abstract/document/9399641 | F2: The rapid proliferation of smart vehicles along with the advent of powerful applications bring stringent requirements on massive content delivery. Although vehicular edge caching can facilitate delay-bounded content transmission, constrained storage capacity and limited serving range of an individual cache server as well as highly dynamic topology of vehicular networks may degrade the efficiency of content delivery. To address the problem, in this article, we propose a social-aware vehicular edge caching mechanism that dynamically orchestrates the cache capability of roadside units (RSUs) and smart vehicles according to user preference similarity and service availability. Furthermore, catering to the complexity and variability of vehicular social characteristics, we leverage the digital twin technology to map the edge caching system into virtual space, which facilitates constructing the social relation model. Based on the social model, a new concept of vehicular cache cloud is developed to incorporate the correlation of content storing between multiple cache-enabled vehicles in diverse traffic environments. Then, we propose deep learning empowered optimal caching schemes, jointly considering the social model construction, cache cloud formation, and cache resource allocation. We evaluate the proposed schemes based on real traffic data. Numerical results demonstrate that our edge caching schemes have great advantages in optimizing caching utility. | G2: 44295 | H2: 1 | I2: Payment | J2: 33 | K2: Ke Zhang School of Information and Communication Engineering, University of Electronic Science and Technology of China, Chengdu 611731, China. Jiayu Cao School of Information and Communication Engineering, University of Electronic Science and Technology of China, Chengdu 611731, China. Sabita Maharjan Department of Informatics, University of Oslo, 0373 Oslo, Norway, and also with Simula Metropolitan Center for Digital Engineering, 0167 Oslo, Norway. Yan Zhang Department of Informatics, University of Oslo, 0316 Oslo, Norway (e-mail: yanzhang@ieee.org) | L2: China; Norway | M2: EN | N2: IEEE | O2: Automotive | P2: 4 | Q2: 3 | T2: 5 | V2: =P2*'Data and TEMP'!$C$13+Q2*'Data and TEMP'!$C$14+R2*'Data and TEMP'!$C$15+S2*'Data and TEMP'!$C$16+T2*'Data and TEMP'!$C$17+U2*'Data and TEMP'!$C$18 -> 50 | W2: Yes | X2: social-aware vehicular networks
A3: 2 | B3: 2 | C3: First | D3: Metrics development and modelling the mixed reality and digital twin adoption in the context of Industry 4.0 | E3: https://www.emerald.com/insight/content/doi/10.1108/ECAM-10-2020-0880/full/html | F3: Abstract Purpose This paper aims to examine the current technology acceptance model (TAM) in the field of mixed reality and digital twin (MRDT) and identify key factors affecting users' intentions to use MRDT. The factors are used as a set of key metrics for proposing a predictive model for virtual, augmented and mixed reality (MR) acceptance by users. This model is called the extended TAM for MRDT adoption in the architecture, engineering, construction and operations (AECO) industry. Design/methodology/approach An interpretivist philosophical lens was adopted to conduct an inductive systematic and bibliographical analysis of secondary data contained within published journal articles that focused upon MRDT acceptance modelling. The preferred reporting items for systematic reviews and meta-analyses (PRISMA) approach to meta-analysis were adopted to ensure all key investigations were included in the final database set. Quantity indicators such as path coefficients, factor ranking, Cronbach’s alpha (a) and chi-square (b) test, coupled with content analysis, were used for examining the database constructed. The database included journal papers from 2010 to 2020. Findings The extant literature revealed that the most commonly used constructs of the MRDT–TAM included: subjective norm; social influence; perceived ease of use (PEOU); perceived security; perceived enjoyment; satisfaction; perceived usefulness (PU); attitude; and behavioural intention (BI). Using these identified constructs, the general extended TAM for MRDT in the AECO industry is developed. Other important factors such as “perceived immersion” could be added to the obtained model. Research limitations/implications The decision to utilise a new technology is difficult and high risk in the construction project context, due to the complexity of MRDT technologies and dynamic construction environment. The outcome of the decision may affect employee performance, project productivity and on-site safety. The extended acceptance model offers a set of factors that assist managers or practitioners in making effective decisions for utilising any type of MRDT technology. Practical implications Several constraints are apparent due to the limited investigation of MRDT evaluation matrices and empirical studies. For example, the research only covers technologies which have been reported in the literature, relating to virtual reality (VR), augmented reality (AR), MR, DT and sensors, so newer technologies may not be included. Moreover, the review process could span a longer time period and thus embrace a fuller spectrum of technology development in these different areas. Originality/value The research provides a theoretical model for measuring and evaluating MRDT acceptance at the individual level in the AECO context and signposts future research related to MRDT adoption in the AECO industry, as well as providing managerial guidance for progressive AECO professionals who seek to expand their use of MRDT in the Fourth Industrial Revolution (4IR). A set of key factors affecting MRDT acceptance is identified which will help innovators to improve their technology to achieve a wider acceptance. | G3: 44315 | H3: 3 | I3: Payment | J3: Unavailable | K3: Samad M.E. Sepasgozar (School of Architecture and Design, University of New South Wales, Sydney, Australia) Mohsen Ghobadi (School of Architecture and Design, University of New South Wales, Sydney, Australia) Sara Shirowzhan (School of Architecture and Design, University of New South Wales, Sydney, Australia) David J. Edwards (School of Engineering and the Built Environment, Birmingham City University, Birmingham, UK) Elham Delzendeh (School of Engineering and the Built Environment, Birmingham City University, Birmingham, UK) | L3: Australia; UK | M3: EN | N3: emerald insight | V3: =P3*'Data and TEMP'!$C$13+Q3*'Data and TEMP'!$C$14+R3*'Data and TEMP'!$C$15+S3*'Data and TEMP'!$C$16+T3*'Data and TEMP'!$C$17+U3*'Data and TEMP'!$C$18 -> 0
A4: 106 | B4: 6 | C4: Second | D4: Smart Cities of the Future as Cyber Physical Systems: Challenges and Enabling Technologies | E4: https://www.mdpi.com/1424-8220/21/10/3349 | F4: A smart city represents an improvement of today’s cities, both functionally and structurally, that strategically utilizes several smart factors, capitalizing on Information and Communications Technology (ICT) to increase the city’s sustainable growth and strengthen the city’s functions, while ensuring the citizens’ enhanced quality of life and health. Cities can be viewed as a microcosm of interconnected “objects” with which citizens interact daily, which represents an extremely interesting example of a cyber physical system (CPS), where the continuous monitoring of a city’s status occurs through sensors and processors applied within the real-world infrastructure. Each object in a city can be both the collector and distributor of information regarding mobility, energy consumption, air pollution as well as potentially offering cultural and tourist information. As a consequence, the cyber and real worlds are strongly linked and interdependent in a smart city. New services can be deployed when needed, and evaluation mechanisms can be set up to assess the health and success of a smart city. In particular, the objectives of creating ICT-enabled smart city environments target (but are not limited to) improved city services; optimized decision-making; the creation of smart urban infrastructures; the orchestration of cyber and physical resources; addressing challenging urban issues, such as environmental pollution, transportation management, energy usage and public health; the optimization of the use and benefits of next generation (5G and beyond) communication; the capitalization of social networks and their analysis; support for tactile internet applications; and the inspiration of urban citizens to improve their quality of life. However, the large scale deployment of cyber-physical-social systems faces a series of challenges and issues (e.g., energy efficiency requirements, architecture, protocol stack design, implementation, and security), which requires more smart sensing and computing methods as well as advanced networking and communications technologies to provide more pervasive cyber-physical-social services. In this paper, we discuss the challenges, the state-of-the-art, and the solutions to a set of currently unresolved key questions related to CPSs and smart cities. | G4: 44328 | H4: 1 | I4: Free | J4: 0 | K4: Antonio Puliafito 1,2,*OrcID,Giuseppe Tricomi 1OrcID,Anastasios Zafeiropoulos 3OrcID andSymeon Papavassiliou 3OrcID | L4: Italy, Greece | M4: EN | N4: MDPI | O4: Public Services | P4: 5 | Q4: 2 | R4: 1 | S4: 0 | T4: 4 | U4: 0 | V4: =P4*'Data and TEMP'!$C$13+Q4*'Data and TEMP'!$C$14+R4*'Data and TEMP'!$C$15+S4*'Data and TEMP'!$C$16+T4*'Data and TEMP'!$C$17+U4*'Data and TEMP'!$C$18 -> 50 | W4: Yes
A5: 4 | B5: 4 | C5: First | D5: A systematic review of a digital twin city: A new pattern ofurban governance toward smart cities | E5: https://www.sciencedirect.com/science/article/pii/S2096232021000238 | F5: Many countries and governments consider smart cities a solution to global warming, population growth, and resource depletion. Numerous challenges arise while creating a smart city. Digital twins, along with the Internet of Things, fifth-generation wireless systems, blockchain, collaborative computing, simulation, and artificial intelligence technologies, offer great potential in the transformation of the current urban governance paradigm toward smart cities. In this paper, the concept of a digital twin city (DTC) is proposed. The characteristics, key technologies, and application scenarios of a DTC are elaborated upon. Further, we discuss the theories, research directions, and framework regarding DTCs. | G5: 44279 | H5: 2 | I5: Free | J5: 0 | K5: TianhuDengaKerenZhangaZuo-Jun (Max)Shenab | L5: China; USA | M5: EN | N5: ScienceDirect | V5: =P5*'Data and TEMP'!$C$13+Q5*'Data and TEMP'!$C$14+R5*'Data and TEMP'!$C$15+S5*'Data and TEMP'!$C$16+T5*'Data and TEMP'!$C$17+U5*'Data and TEMP'!$C$18 -> 0
A6: 5 | B6: 5 | C6: First | D6: Digital Twin – an Exploratory Study on its Opportunities and Challenges from a Supply Chain Perspective | E6: https://lup.lub.lu.se/student-papers/search/publication/9041669 | F6: At the forefront of the fourth industrial revolution, technologies such as digital twin seek to shift the way industrial companies operate. A digital twin is a virtual replica of a product, system or process. Historically, the focus has been on representing single objects but it is now shifting to interconnected processes, such as supply chains. Advanced versions of a supply chain digital twin can integrate physical and virtual spaces by, in real-time, replicating supply chains digitally. This allows companies to gain visibility of their supply chain and helps them make well informed decisions. However, there is a growing concern that digital twin might just be a buzzword, and that the hype will soon die down. As the technology is relatively young, it is hard to understand its true value. This question was asked by Northvolt, a newly established battery manufacturer in Sweden. We were tasked with investigating this and providing Northvolt with a point of view on how digital twin could benefit their supply chain. The research showed that there is value in digital twin for Northvolt as long as a clear business case can be identified, where no other solution can fulfil the purpose at a lower cost than digital twin. A digital twin could help Northvolt achieve cross-company planning and provide them with material flow visibility, two characteristics they want to realise when the supply chain is operational. In order to successfully implement a digital twin, it is crucial to secure of digital thread of data throughout all supply chain operations. In addition, this includes that the digital thread must be supported by a digital strategy that covers all supply chain entities. Interviews with Northvolt employees showed that Northvolt has very competent digitalisation and IT teams, with the ambition of making Northvolt a fully digitalised company. This entails that they have created a perfect growing ground for digital twin. Moreover, as Northvolt has a high level of vertical integration, it entails that they possess a lot of data in house. However, they must find a way to access the data from external parties in the digital thread if they want an end-to-end solution. Suppliers of raw materials in the battery industry have a varying degree of digital maturity as well as a varied willingness to share data. | G6: 44075 | H6: 3 | I6: Free | J6: 0 | K6: Sandén, Emma LU and Falk, Johanna LU | L6: Sweden | M6: EN | N6: Lund University | V6: =P6*'Data and TEMP'!$C$13+Q6*'Data and TEMP'!$C$14+R6*'Data and TEMP'!$C$15+S6*'Data and TEMP'!$C$16+T6*'Data and TEMP'!$C$17+U6*'Data and TEMP'!$C$18 -> 0
A7: 40 | B7: 40 | C7: First | D7: Symbiotic System of Systems Design for Safe and Resilient Autonomous Robotics in Offshore Wind Farms\ | E7: https://arxiv.org/abs/2101.09491 | F7: To reduce Operation and Maintenance (O&M) costs on offshore wind farms, wherein 80% of the O&M cost relates to deploying personnel, the offshore wind sector looks to Robotics and Artificial Intelligence (RAI) for solutions. Barriers to Beyond Visual Line of Sight (BVLOS) robotics include operational safety compliance and resilience, inhibiting the commercialization of autonomous services offshore. To address safety and resilience challenges we propose a Symbiotic System Of Systems Approach (SSOSA); reflecting the lifecycle learning and co-evolution with knowledge sharing for mutual gain of robotic platforms and remote human operators. Our novel methodology enables the run-time verification of safety, reliability and resilience during autonomous missions. To achieve this, a Symbiotic Digital Architecture (SDA) was developed to synchronize digital models of the robot, environment and infrastructure and integrate front-end analytics and bidirectional communication for autonomous adaptive mission planning and situation reporting to a remote operator. A reliability ontology for the deployed robot, based on our holistic hierarchicalrelational model, supports computationally efficient platform data analysis. We demonstrate an asset inspection mission within a confined space through collaborative governance (internal and external symbiosis) via decision-making processes and the associated structures. We create a hyper enabled human interaction capability to analyze the mission status, diagnostics of critical sub-systems within the robot to provide automatic updates to our AI-driven run-time reliability ontology. This enables faults to be translated into failure modes for decision making during the mission. We also increase situational awareness with foresight sensing, based on robust, opaque environment compliant sensing to monitor unforeseen ambient risks. Our results demonstrate that the symbiotic system of systems methodology provides enhanced run-time operational resilience and safety compliance to BVLOS autonomous missions. The SSOSA, is highly transferable to other mission scenarios and technologies, providing a pathway to implementing scalable and diverse autonomous services. | G7: 44288 | H7: 1 | I7: Free | J7: 0 | K7: Daniel Mitchell1 , Osama Zaki1 , Jamie Blanche1 , Joshua Roe1 , Leo Kong1 , Samuel Harper1 , Valentin Robu1 , Theodore Lim1 and David Flynn1 | L7: UK | M7: EN | N7: Cornell University | O7: Resources | P7: 1 | Q7: 3 | R7: 0 | S7: 3 | T7: 5 | U7: 0 | V7: =P7*'Data and TEMP'!$C$13+Q7*'Data and TEMP'!$C$14+R7*'Data and TEMP'!$C$15+S7*'Data and TEMP'!$C$16+T7*'Data and TEMP'!$C$17+U7*'Data and TEMP'!$C$18 -> 41 | W7: Yes
A8: 47 | B8: 47 | C8: First | D8: A Survey on Wearable Technology: History, State-of-the-Art and Current Challenges | E8: https://www.sciencedirect.com/science/article/pii/S1389128621001651 | F8: Technology is continually undergoing a constituent development caused by the appearance of billions new interconnected “things” and their entrenchment in our daily lives. One of the underlying versatile technologies, namely wearables, is able to capture rich contextual information produced by such devices and use it to deliver a legitimately personalized experience. The main aim of this paper is to shed light on the history of wearable devices and provide a state-of-the-art review on the wearable market. Moreover, the paper provides an extensive and diverse classification of wearables, based on various factors, a discussion on wireless communication technologies, architectures, data processing aspects, and market status, as well as a variety of other actual information on wearable technology. Finally, the survey highlights the critical challenges and existing/future solutions. | G8: 44294 | H8: 1 | I8: Free | J8: 0 | K8: AleksandrOmetovaViktoriiaShubinaaeLucieKlusadJustynaSkibińskacaSalwaSaaficaPavelPascaciodaLauraFlueratorueaDarwin QuezadaGaibordaNadezhdaChukhnobdOlgaChukhnobaAsadAliacAsmaChannaebEkaterinaSvertokaecWaleed BinQaimabRaúlCasanova-MarquéscdSylviaHolcerdcJoaquínTorres-SospedradSvenCasteleyndGiuseppeRuggeribGiuseppeAranitibRadimBurgetcJiriHosekcElena SimonaLohana | L8: Romania, Italy, Finland, Czech Republic, Spain | M8: EN | N8: ScienceDirect | O8: Consumer Goods | P8: 3 | Q8: 2 | R8: 0 | S8: 0 | T8: 5 | U8: 0 | V8: =P8*'Data and TEMP'!$C$13+Q8*'Data and TEMP'!$C$14+R8*'Data and TEMP'!$C$15+S8*'Data and TEMP'!$C$16+T8*'Data and TEMP'!$C$17+U8*'Data and TEMP'!$C$18 -> 40 | W8: Yes
A9: 3 | B9: 3 | C9: First | D9: Towards the future of smart electric vehicles: Digital twin technology | E9: https://www.sciencedirect.com/science/article/abs/pii/S1364032121000964?casa_token=kx_2PTXlEs4AAAAA:oqFYhQcW1vvY70gMcoa99mRX5vI0B2BUZ0zAiLrraWxgpm6TiwaEmM2hl7RlsUC5STxvsy3G | F9: Worldwide, transportation accounts for 18% of global carbon dioxide emissions (as of 2019). In order to battle the impending threat of climate change, consumers and industry must adopt sustainable transport that complies with the United Nations Sustainable Development Goals of increased energy efficiency and reduced greenhouse gas emissions. To fulfil these objectives, a new class of vehicles has recently emerged, smart electric vehicles, which is forecasted to reduce carbon dioxide emissions up to 43% as compared to diesel engine vehicles. However, to bring these vehicles to the mainstream, supporting architecture is needed to optimize them in a sustainable manner. One such novel architecture is Digital Twin Technology, which is a virtual mapping technology, extending from it, capable of investigating the lifecycle of multisystem bodies in a digital environment. In recent years, digital twin technology is becoming an underpinning area of research globally. As a result, novel individual research covering digital twin implementation on various aspects of smart vehicles has transpired in research and industrial studies, consequently allowing digital twin technology to evolve over the years. This work aims to bridge the gap between individual research to provide a comprehensive review from a technically-informed and academically neutral standpoint. Conceptual groundwork of digital twin technology is built systematically for the reader, to allow insight into its inception and evolution. The study sifts the digital twin domain for contributions in smart vehicle systems, exploring its potential and contemporaneous challenges to realization. The study then proceeds to review recent research and commercial projects for innovation within this domain. To the knowledge of the authors, this is the first extensive review of the application of digital twin technology in smart electric vehicles. The review has been systematically classified into specific domains within the smart vehicle system such as autonomous navigation control, advanced driver assistance systems, vehicle health monitoring, battery management systems, vehicle power electronics, and electrical power drive systems. An in-depth discussion of each vehicle subsystem is undertaken to present this review as an eclectic panorama of the smart vehicle system. This review further facilitates appreciation of the role of digital twin technology within each classification from a holistic technical perspective. Finally, the work ends with an inspection of the techno-socio-economic impact of digital twin technology that will revolutionize mainstream vehicle technology and the obstacles for further development. | G9: 44317 | H9: 1 | I9: Payment | J9: 37.95 | K9: GhanishthaBhattiaHarshitMohanbR.Raja Singh | L9: India | M9: EN | N9: ScienceDirect | O9: Automotive | P9: 0 | Q9: 4 | R9: 0 | S9: 2 | T9: 3 | U9: 1 | V9: =P9*'Data and TEMP'!$C$13+Q9*'Data and TEMP'!$C$14+R9*'Data and TEMP'!$C$15+S9*'Data and TEMP'!$C$16+T9*'Data and TEMP'!$C$17+U9*'Data and TEMP'!$C$18 -> 38 | W9: No
A10: 9 | B10: 9 | C10: First | D10: An Abstracted Survey on 6G: Drivers, Requirements, Efforts, and Enablers | E10: https://arxiv.org/abs/2101.01062 | F10: As of today, 5G mobile systems have been already widely rolled out, it is the right time for academia and industry to explore the next generation mobile communication system beyond 5G. To this end, this paper provides an abstracted survey for the 6G mobile system. We shed light on the key driving factors for 6G through predicting the growth trend of mobile traffic and mobile service subscriptions until the year of 2030, envisioning the potential use cases and applications, as well as deriving the potential use scenarios. Then, a number of key performance indicators to support the 6G use cases are identified and their target values are estimated in a quantitatively manner, which is compared with those of 5G clearly in a visualized way. An investigation of the efforts spent on 6G research in different countries and institutions until now is summarized, and a potential roadmap in terms of the definition, specification, standardization, and spectrum regulation is given. Finally, an introduction to potential key 6G technologies is provided. The principle, technical advantages, challenges, and open research issues for each identified technology are discussed | G10: 44200 | H10: 4 | I10: Free | J10: 0 | K10: Bin Han∗ , Wei Jiang† , Mohammad Asif Habibi∗ , and Hans D. Schotten∗† | L10: German | M10: EN | N10: Cornell University | V10: =P10*'Data and TEMP'!$C$13+Q10*'Data and TEMP'!$C$14+R10*'Data and TEMP'!$C$15+S10*'Data and TEMP'!$C$16+T10*'Data and TEMP'!$C$17+U10*'Data and TEMP'!$C$18 -> 0
A11: 10 | B11: 10 | C11: First | D11: Federated Learning Meets Blockchain in Edge Computing: Opportunities and Challenges | E11: https://ieeexplore.ieee.org/abstract/document/9403374 | F11: Mobile edge computing (MEC) has been envisioned as a promising paradigm to handle the massive volume of data generated from ubiquitous mobile devices for enabling intelligent services with the help of artificial intelligence (AI). Traditionally, AI techniques often require centralized data collection and training in a single entity, e.g., an MEC server, which is now becoming a weak point due to data privacy concerns and high overhead of raw data communications. In this context, federated learning (FL) has been proposed to provide collaborative data training solutions, by coordinating multiple mobile devices to train a shared AI model without directly exposing their underlying data, which enjoys considerable privacy enhancement. To improve the security and scalability of FL implementation, blockchain as a ledger technology is attractive for realizing decentralized FL training without the need for any central server. Particularly, the integration of FL and blockchain leads to a new paradigm, called FLchain, which potentially transforms intelligent MEC networks into decentralized, secure, and privacy-enhancing systems. This article presents an overview of the fundamental concepts and explores the opportunities of FLchain in MEC networks. We identify several main issues in FLchain design, including communication cost, resource allocation, incentive mechanism, security and privacy protection. The key solutions and the lessons learned along with the outlooks are also discussed. Then, we investigate the applications of FLchain in popular MEC domains, such as edge data sharing, edge content caching and edge crowdsensing. Finally, important research challenges and future directions are also highlighted. | G11: 44299 | H11: 2 | I11: Payment | J11: 33 | K11: Dinh C. Nguyen School of Engineering, Deakin University, Waurn Ponds, VIC 3216, Australia. (e-mail: cdnguyen@deakin.edu.au) Ming Ding Data61, CSIRO, Australia. Quoc-Viet Pham Korean Southeast Center for the 4th Industrial Revolution Leader Education, Pusan National University, Busan 46241, Korea. Pubudu N. Pathirana School of Engineering, Deakin University, Waurn Ponds, VIC 3216, Australia. Long Bao Le Institut National de la Recherche Scientifique, University of Quebec, Montreal, QC H5A 1K6, Canada. Aruna Seneviratne School of Electrical Engineering and Telecommunications, University of New South Wales (UNSW), NSW, Australia. Jun Li School of Electrical and Optical Engineering, Nanjing University of Science and Technology, Nanjing 210094, China. Dusit Niyato School of Computer Science and Engineering, Nanyang Technological University, Singapore. H. Vincent Poor Department of Electrical Engineering, Princeton University, Princeton, NJ 08544 USA. | L11: Australia; Korea; Canada; China; Singapore; USA | M11: EN | N11: IEEE | V11: =P11*'Data and TEMP'!$C$13+Q11*'Data and TEMP'!$C$14+R11*'Data and TEMP'!$C$15+S11*'Data and TEMP'!$C$16+T11*'Data and TEMP'!$C$17+U11*'Data and TEMP'!$C$18 -> 0
A12: 11 | B12: 11 | C12: First | D12: DATA CENTER INFRASTRUCTURE MANAGEMENT | E12: https://onlinelibrary.wiley.com/doi/abs/10.1002/9781119597537.ch33 | F12: Data center infrastructure management (DCIM) is a critical management solution for data centers that has been used in data center industry and proven successfully. Today's DCIM solutions include all of the necessary functions to allow a fully functional production data center to be streamlined and support all of the required material provisioning, optimization, remediation, and documentation over time. Comprehensive DCIM suites are usually created as a range of functional modules that are intended to work together seamlessly. DCIM implementations provide a comprehensive set of asset management capabilities in the data center. Advances in computing technology, mergers, and acquisitions, DCIM supports the commissioning and decommissioning of vast amounts of computing equipment typically found in data center consolidation projects. In addition to the static attributes, the data center can provide a wealth of dynamic information that is derived from complementary technologies, sometimes referred to as “DCIM‐Specialist” solutions. | G12: 44306 | H12: 5 | I12: Payment | J12: 42 | K12: Dongmei Huang | L12: China | M12: EN | N12: Hwaiyu Geng P.E., | V12: =P12*'Data and TEMP'!$C$13+Q12*'Data and TEMP'!$C$14+R12*'Data and TEMP'!$C$15+S12*'Data and TEMP'!$C$16+T12*'Data and TEMP'!$C$17+U12*'Data and TEMP'!$C$18 -> 0
A13: 12 | B13: 12 | C13: First | D13: Cloud-Edge Computing for Cyber-Physical Systems and Internet-of-Things | E13: https://ieeexplore.ieee.org/abstract/document/9373962 | F13: This Special Section on ‘`Cloud-Edge Computing for Cyber-Physical Systems and Internet-of-Things’' is oriented to the dissemination of a few of those latest research and innovation results, covering many aspects of design, optimization, implementation, and evaluation of emerging cloud-edge solutions for CPS and IoT applications. The selected high-quality contributions cover a broad range of novel technologies and application scenarios in CPS and IoT. We hope that these accepted papers will produce long-lasting impacts, as well as stimulating and encouraging the international community to work on this exciting and impactful topic. | G13: 44264 | H13: 3 | I13: Payment | J13: 33 | K13: Shiyan Hu University of Southampton, 7423 Southampton, United Kingdom of Great Britain and Northern Ireland, SO17 1BJ (e-mail: s.hu@soton.ac.uk) Yang Shi Department of Mechanical Engineering, University of Victoria, Victoria, British Columbia, Canada, V8W 3P6 (e-mail: yshi@uvic.ca) Armando Colombo Institute for Industrial Informatics, Hochschule Emden Leer, 38976 Emden, Niedersachsen, Germany, 26723 (e-mail: awcolombo@technik-emden.de) Stamatis Karnouskos Research, SAP, 217964 Walldorf, Germany, 69190 (e-mail: karnouskos@ieee.org) Xin Li Duke University, Durham, United States, 27519 (e-mail: xinli.ece@duke.edu) | L13: UK; Canada; Germany; USA | M13: EN | N13: IEEE | V13: =P13*'Data and TEMP'!$C$13+Q13*'Data and TEMP'!$C$14+R13*'Data and TEMP'!$C$15+S13*'Data and TEMP'!$C$16+T13*'Data and TEMP'!$C$17+U13*'Data and TEMP'!$C$18 -> 0
A14: 13 | B14: 13 | C14: First | D14: Combining symbiotic simulation systems with enterprise data storage systems for real-time decision-making | E14: https://www.tandfonline.com/doi/full/10.1080/17517575.2020.1777587?casa_token=bqGKfwIBuuwAAAAA%3AAUz1Qlg1pV7M2LUmBLCItppzdphVc0Z69p0SstoWQvtw8yMz0BL6-bb7IXyRv253pbcnf7r6ik0 | F14: A symbiotic simulation system (S3) enables interactions between a physical system and its computational model representation. To support operational decisions, an S3 uses real-time data from the physical system, which is gathered via sensors and saved in an enterprise data storage system (EDSS). Both real-time and historical data are then used as inputs to the different components of an S3. This paper proposes a generic system architecture for an S3 and discusses its integration within EDSSs. The paper also reviews the literature on S3 and analyses how these systems can be used for real-time decision-making. | G14: 44000 | H14: 2 | I14: Free | J14: 0 | K14: B. S. Onggo , Canan G. Corlu , Angel A. Juan , Thomas Monks & Rocio de la Torre | L14: UK; Spain; USA | M14: EN | N14: Taylor & Francis | V14: =P14*'Data and TEMP'!$C$13+Q14*'Data and TEMP'!$C$14+R14*'Data and TEMP'!$C$15+S14*'Data and TEMP'!$C$16+T14*'Data and TEMP'!$C$17+U14*'Data and TEMP'!$C$18 -> 0
A15: 14 | B15: 14 | C15: First | D15: Sustainable Cities and Landscape Virtual Conference and PhD Symposium | E15: https://auckland.figshare.com/articles/conference_contribution/Book_of_Abstracts_of_the_4th_APRU_Sustainable_Cities_and_Landscapes_Virtual_PhD_Symposium_/13374599/files/26271247.pdf | F15: Sustainable Cities and Landscape Virtual Conference and PhD Symposium | G15: 44183 | H15: 3 | I15: Free | J15: 0 | K15: prof Bart Johnson | L15: New Zeland | M15: EN | N15: APRU | V15: =P15*'Data and TEMP'!$C$13+Q15*'Data and TEMP'!$C$14+R15*'Data and TEMP'!$C$15+S15*'Data and TEMP'!$C$16+T15*'Data and TEMP'!$C$17+U15*'Data and TEMP'!$C$18 -> 0
A16: 15 | B16: 15 | C16: First | D16: Ultra-Low Latency Multi-Task Offloading in Mobile Edge Computing | E16: https://ieeexplore.ieee.org/abstract/document/9360636 | F16: With the development of computer technology, computational-intensive and delay-sensitive applications are emerging endlessly, and they are limited by the computing power and battery life of Smart Mobile Devices (SMDs). Mobile edge computing (MEC) is a computation model with great potential to meet application requirements and alleviate burdens on SMDs through computation offloading. However, device mobility and server status variability in the multi-server and multi-task scenario bring challenges to the computation offloading. To cope with these challenges, we first propose a parallel task offloading model and a small area-based edge offloading scheme in MEC. Then, we formulate the optimization problem to minimize the completion time of all tasks, and transform the problem into a deep reinforcement learning-based offloading scheme by Markov decision approach. Furthermore, we present a deep deterministic policy gradient (DDPG) approach for obtaining the offloading strategy. Experimental results demonstrate that the DDPG- based offloading approach improves long-term performance by at least 19% in ultra-low latency, efficient usage of servers, and frequent mobility of SMDs over traditional strategies | G16: 44257 | H16: 4 | I16: Free | J16: 0 | K16: HONGXIA ZHANG 1 , YONGJIN YANG1 , XINGZHE HUANG 1 , CHAO FANG 2,3, (Senior Member, IEEE), AND PEIYING ZHANG | L16: China | M16: EN | N16: IEEE | V16: =P16*'Data and TEMP'!$C$13+Q16*'Data and TEMP'!$C$14+R16*'Data and TEMP'!$C$15+S16*'Data and TEMP'!$C$16+T16*'Data and TEMP'!$C$17+U16*'Data and TEMP'!$C$18 -> 0
A17: 16 | B17: 16 | C17: First | D17: Emerging digitalisation technologies in freight transport and logistics: Current trends and future directions | E17: https://www.sciencedirect.com/science/article/pii/S136655452100065X?casa_token=V0Nkn9FQ_OoAAAAA:EaVeBK-BrBf2E4_lD0nMo8SOF7Mch0-lj2l_ya_z_MSug6FClj1vWevwIQOs87JIB_U66pdX | F17: This editorial piece discusses the current digitalisation trends and future research directions in freight transport and logistics. We characterise the current trends into three categories based on their transformative roles: connecting, collaborating, and capitalising. Under each category, we discuss the key technologies that are emerging and how they drive major changes in supply chain and logistics systems. We then introduce the special issue papers which address some of the topics under the proposed categories. The article ends with identifying the gaps in the literature and proposes a list of potential topics for future research. | G17: 44274 | H17: 2 | I17: Free | J17: 0 | K17: YingliWangaJosephSarkisb | L17: UK; Finland | M17: EN | N17: ScienceDirect | V17: =P17*'Data and TEMP'!$C$13+Q17*'Data and TEMP'!$C$14+R17*'Data and TEMP'!$C$15+S17*'Data and TEMP'!$C$16+T17*'Data and TEMP'!$C$17+U17*'Data and TEMP'!$C$18 -> 0
A18: 17 | B18: 17 | C18: First | D18: Intelligent IOT for Digital World | E18: https://books.google.pl/books?hl=pl&lr=&id=pkUoEAAAQBAJ&oi=fnd&pg=PR9&dq=%22edge%22+%22digital+twin%22+%22mobility%22+%22security%22+%22experience%22&ots=3I-dcZ2FQJ&sig=sHrOZqa0indTlu8sfeR-XLkKZJM&redir_esc=y#v=onepage&q&f=false | F18: The Intelligent Internet of Things explores a unique type of Internet of Things (IoT) architecture, for example, the Web of Things (WoT) with its open character that breaks the barriers among various IoT vertical applications. The authors—noted experts on the topic—examine and compare key technologies from physical to platform level, especially the Narrow Band Internet of Things (NB-IoT) technology. They discuss applications with different data transmission requirements that are typical to IoT. The text also describes the requirements of WoT applications on 5G and includes detailed information on WoT technologies. The Intelligent Internet of Things examines three typical WoT applications: the monitoring application of south-to-north water diversion projects; smart driving applications; and network optimization applications. In addition, the text explores testing and authentication of IoT key technologies, with the required equipment, platform, and outdoor environment development. This important book: Provides information on what IoT/WoT is, when to use it, how to provide IoT services with certain technologies, and more Discusses restful architecture, main protocols (ZigBee, 6lowpan, CoAP, HTML5) Explores key technologies on different layers (sensing, gathering, application) Examines how IoT will change the information and communication technology industry Written for professionals working in IoT development, management and big data analytics, Intelligent Internet of Things offers an overview of IoT architecture, key technology, current applications and future development of the technology. | G18: 44294 | H18: 3 | I18: Free | J18: 0 | K18: Yang Yang (Author), Xu Chen (Author), Rui Tan (Author), Yong Xiao (Author) | L18: USA | M18: EN | N18: Wiley | V18: =P18*'Data and TEMP'!$C$13+Q18*'Data and TEMP'!$C$14+R18*'Data and TEMP'!$C$15+S18*'Data and TEMP'!$C$16+T18*'Data and TEMP'!$C$17+U18*'Data and TEMP'!$C$18 -> 0
A19: 18 | B19: 18 | C19: First | D19: A Survey on Edge and Edge-Cloud Computing Assisted Cyber-Physical Systems | E19: https://ieeexplore.ieee.org/abstract/document/9403939/authors#authors | F19: In recent years, the investigations on Cyber-Physical Systems~(CPS) have become increasingly popular in both academia and industry. A primary obstruction against the booming deployment of CPS applications lies in how to process and manage large amounts of generated data for decision making. To tackle this predicament, researchers advocate the idea of coupling edge computing or edge-cloud computing into the design of CPS. However, this coupling process raises a diversity of challenges to the Quality-of-Services~(QoS) of CPS applications. In this paper, we present a survey on edge computing or edge-cloud computing assisted CPS designs from the QoS optimization perspective. We first discuss critical challenges in service latency, energy consumption, security, privacy, and reliability during the integration of CPS with edge computing or edge-cloud computing. Afterwards, we give an overview on the state-of-the-art works tackling different challenges for QoS optimization, and present a systematic classification during outlining literatures for highlighting their similarities and differences. We finally summarize the experiences learned from surveyed works and envision future research directions on edge computing or edge-cloud computing assisted CPS optimization | G19: 44299 | H19: 2 | I19: Payment | J19: 33 | K19: Kun Cao Guangzhou, China, 510632 (e-mail: kuncao@jnu.edu.cn) Shiyan Hu University of Southampton, 7423 Southampton, United Kingdom of Great Britain and Northern Ireland, SO17 1BJ (e-mail: s.hu@soton.ac.uk) Yang Shi Department of Mechanical Engineering, University of Victoria, Victoria, British Columbia, Canada, V8W 3P6 (e-mail: yshi@uvic.ca) Armando Colombo Institute for Industrial Informatics, Hochschule Emden Leer, 38976 Emden, Niedersachsen, Germany, 26723 (e-mail: awcolombo@technik-emden.de) Stamatis Karnouskos Research, SAP, 217964 Walldorf, Germany, 69190 (e-mail: karnouskos@ieee.org) Xin Li Duke University, Durham, United States, 27519 (e-mail: xinli.ece@duke.edu) | L19: China; UK; Canada; Germany US | M19: EN | N19: IEEE | V19: =P19*'Data and TEMP'!$C$13+Q19*'Data and TEMP'!$C$14+R19*'Data and TEMP'!$C$15+S19*'Data and TEMP'!$C$16+T19*'Data and TEMP'!$C$17+U19*'Data and TEMP'!$C$18 -> 0
A20: 19 | B20: 19 | C20: First | D20: A Fully Open-Source Approach to Intelligent Edge Computing: AGILE’s Lesson | E20: https://www.mdpi.com/1424-8220/21/4/1309 | F20: In this paper, we describe the main outcomes of AGILE (acronym for “Adaptive Gateways for dIverse muLtiple Environments”), an EU-funded project that recently delivered a modular hardware and software framework conceived to address the fragmented market of embedded, multi-service, adaptive gateways for the Internet of Things (IoT). Its main goal is to provide a low-cost solution capable of supporting proof-of-concept implementations and rapid prototyping methodologies for both consumer and industrial IoT markets. AGILE allows developers to implement and deliver a complete (software and hardware) IoT solution for managing non-IP IoT devices through a multi-service gateway. Moreover, it simplifies the access of startups to the IoT market, not only providing an efficient and cost-effective solution for industries but also allowing end-users to customize and extend it according to their specific requirements. This flexibility is the result of the joint experience of established organizations in the project consortium already promoting the principles of openness, both at the software and hardware levels. We illustrate how the AGILE framework can provide a cost-effective yet solid and highly customizable, technological foundation supporting the configuration, deployment, and assessment of two distinct showcases, namely a quantified self application for individual consumers, and an air pollution monitoring station for industrial settings. | G20: 44239 | H20: 3 | I20: Free | J20: 0 | K20: Massimo Vecchio 1,*OrcID,Paolo Azzoni 2OrcID,Andreas Menychtas 3,4OrcID,Ilias Maglogiannis 4OrcID andAlexander Felfernig 5OrcID | L20: Italy; Austria; Greece | M20: EN | N20: MDPI | V20: =P20*'Data and TEMP'!$C$13+Q20*'Data and TEMP'!$C$14+R20*'Data and TEMP'!$C$15+S20*'Data and TEMP'!$C$16+T20*'Data and TEMP'!$C$17+U20*'Data and TEMP'!$C$18 -> 0
A21: 20 | B21: 20 | C21: First | D21: CREATIVITY FORWARD: A FRAMEWORK THAT INTEGRATES DATA ANALYSIS TECHNIQUES TO FOSTER CREATIVITY WITHIN THE CREATIVE PROCESS IN USER EXPERIENCE CONTEXTS | E21: https://journals.vgtu.lt/index.php/CS/article/view/12933 | F21: The latest technological advancements allow users to generate a large volume of data related to their experiences and needs. However, the absence of an advanced methodology that links the big data and the creative process prevents the effective use of the data and extracting all its potential and knowledge in this context, which is crucial in offering user-centred solutions. Incorporating data creatively and critically as design material can help us learn and understand user needs better. Therefore, design can bring deeper meaning to data, just as data can enhance design practice. Accordingly, this work raises a reflection on whether designers could appropriate the workflow of data science in order to integrate it into the research process in the creative process within a framework of user experience analysis. The proposed model: data-driven design model, enhances the exploratory design of problem space and assists in the creation of ideas during the conceptual design phase. In this way, this work offers an integrated vision, enhancing creativity in industrial design as an instrument for the achievement of the proper and necessary balance between intuition and reason, design, and science. | G21: 44252 | H21: 5 | I21: Free | J21: 0 | K21: Juan Carlos Quiñones-Gómez | L21: Spain | M21: EN | N21: Creativity Studies | V21: =P21*'Data and TEMP'!$C$13+Q21*'Data and TEMP'!$C$14+R21*'Data and TEMP'!$C$15+S21*'Data and TEMP'!$C$16+T21*'Data and TEMP'!$C$17+U21*'Data and TEMP'!$C$18 -> 0
A22: 8 | B22: 8 | C22: First | D22: Mobile Edge Computing for Intelligent Minining Safety: A case study of Ventilator | E22: https://conferences.computer.org/ispapub/pdfs/ISPA-BDCloud-SocialCom-SustainCom2020-61uthIiswrO37XTCl0drpO/319900b300/319900b300.pdf | F22: undergrund minimig; MEC is the right candidate for such scenario (analyzing miner's body condition) | G22: 2020 | H22: 1 | I22: Free | J22: 0 | K22: Yuchun Zhang, Liang Zhao, Kaiqi Yang, Lexi Xu | L22: China | M22: EN | N22: IEEE | O22: Resources | P22: 4 | Q22: 1 | R22: 0 | S22: 4 | T22: 0 | U22: 1 | V22: =P22*'Data and TEMP'!$C$13+Q22*'Data and TEMP'!$C$14+R22*'Data and TEMP'!$C$15+S22*'Data and TEMP'!$C$16+T22*'Data and TEMP'!$C$17+U22*'Data and TEMP'!$C$18 -> 38 | W22: Yes
A23: 22 | B23: 22 | C23: First | D23: A Review of Design and Protocol for Smart Continuos Monitoring E-Health System in 5G | E23: https://books.google.pl/books?hl=pl&lr=&id=lqkhEAAAQBAJ&oi=fnd&pg=PA467&dq=%22edge%22+%22digital+twin%22+%22mobility%22+%22security%22+%22experience%22&ots=fZX07xXNYy&sig=cBlkA7NKmXiG_eo7BVl2BzYiM_w&redir_esc=y#v=onepage&q&f=false | F23: healthcare 4G 5g. This paper reviews the design and protocols for smart continous monitoring e-health systems using 5g networks. | G23: 44259 | H23: 4 | I23: Free | J23: 0 | K23: Anline Lizie R. Gomathy C. | L23: India | M23: EN | N23: (Editor), N. Sivakumaran (Editor), Santoshkumar Hampannavar (Editor) | V23: =P23*'Data and TEMP'!$C$13+Q23*'Data and TEMP'!$C$14+R23*'Data and TEMP'!$C$15+S23*'Data and TEMP'!$C$16+T23*'Data and TEMP'!$C$17+U23*'Data and TEMP'!$C$18 -> 0
A24: 23 | B24: 23 | C24: First | D24: Factors that Impact Information Technology Security Professionals’ Intent to Use Intrusion Detection Systems: A Correlational Study | E24: https://search.proquest.com/openview/09d4bb4604aaeb6bb15b38be6997b178/1?pq-origsite=gscholar&cbl=18750&diss=y | F24: The present study examined the extent to which performance expectancy, effort expectancy, social influence, and facilitating conditions correlate to information technology security professionals' intention to use intrusion detection systems (IDS) to improve Internet of Things (IoT) security. IoT security threats and vulnerabilities have become a major concern for organizations worldwide. The emergence of IoT systems created a need for innovation in security adoption countermeasure. Research has shown that using IDS positively impacted IoT security. This quantitative nonexperimental correlational study measured the four adoption factors of the unified theory of acceptance and use of technology (UTAUT) theory to determine their influence on the information technology (IT) security professional behavioral intention to used IDS to improve IoT security. A survey questionnaire was used to collect data from 111 IT security professionals between the ages of 27-65 and five or more years’ experience working with IDS for IoT environment in the United States. This study refrained from collecting personal data on the consenting participants. Data collected were analyzed using multiple linear regression analyses. The regression model was examined to determine whether the UTAUT’s independent variables significantly correlated with the intention to adopt active cybersecurity measures. Multiple linear regression served as the primary analysis method to determine each adoption factor's significance in using IDS in the IoT environment. The result of the study indicates that the study was not able to validate some of the UTAUT model propositions using the multiple linear regression analysis. The Multiple linear regression analysis results indicated that most of the UTAUT proposition was shown to have no effect on using IDS for improved IoT security. Except for the predictor effort expectancy correlated to the behavioral intention to use IDS in the IoT environment. Our explanation of the UTAUT model is limited since no information is available about the actual use of the IDS in the IoT environment. To better understand IT security professionals’ acceptance of IDS for the IoT environment, more research is required to take a broad view of the findings of this viability project to an upcoming, wide adaptation of IDS for the IoT environment. | G24: 44256 | H24: 4 | I24: Free | J24: 0 | K24: Marcos Paiola WERNER D. GOTTWALD, PhD, CCP, PMP, Faculty Mentor and Chair PHILLIP M. RANDALL, PhD, Committee Member BRUCE CHAPMAN, PhD, Committee Member Todd C. Wilson, PhD, Dean | L24: USA | M24: EN | N24: ProQuest | V24: =P24*'Data and TEMP'!$C$13+Q24*'Data and TEMP'!$C$14+R24*'Data and TEMP'!$C$15+S24*'Data and TEMP'!$C$16+T24*'Data and TEMP'!$C$17+U24*'Data and TEMP'!$C$18 -> 0
A25: 24 | B25: 24 | C25: First | D25: Service Characteristics-Oriented Joint Optimization of Radio and Computing Resource Allocation in Mobile Edge Computing | E25: https://ieeexplore.ieee.org/abstract/document/9352016/authors#authors | F25: Mobile Edge Computing (MEC) is a promising technology, which allows reducing latency and energy consumption, thereby making the user experience better. Although MEC can support various types of services, differentiated quality of service (QoS) requirements bring difficulties and challenges to the allocation of radio resources and computing resources of the MEC system. In this paper, we jointly optimize subchannel allocation, as well as the local central processing unit (CPU) speed scaling, user association, subcarrier assignment, power allocation, and video quality decision for MEC systems to study the total cost saving problem. Considering the traffic variations, we develop an online algorithm by using the Lyapunov optimization technique to solve this problem, referred to as dynamic subchannel allocation and resource allocation (DSARA). Particularly, the proposed DSARA algorithm only needs to track the state of the current network without requiring any prior knowledge. Besides, we prove that our proposed algorithm can asymptotically achieve the minimum total cost value (such as minimizing the power consumption and maximizing quality satisfaction). Simulation results show that the DSARA can achieve a good tradeoff between the total cost and delay, and outperforms the existing schemes in terms of the total cost expenditure. | G25: 44237 | H25: 4 | I25: Payment | J25: 33 | K25: Jie Feng State Key Laboratory of ISN, Xidian University, No.2 Taibainan-lu, Xi’an, 710071, Shaanxi, China. Lei Liu State Key Laboratory of ISN, Xidian University, No.2 Taibainan-lu, Xi’an, 710071, Shaanxi, China. (e-mail: tianjiaoliulei@163.com) Qingqi Pei State Key Laboratory of ISN, Xidian University, No.2 Taibainan-lu, Xi’an, 710071, Shaanxi, China. Fen Hou State Key Laboratory of Io T for Smart City and Department of Electrical and Computer Engineering, University of Macau, Macau, China, and also with the Guangdong. Tingting Yang School of Electrical Engineering and Intelligentization, Dongguan University of Technology, Dongguan, China and also with Pengcheng Laboratory, Shenzhen, China. Jinsong Wu School of Artificial Intelligence, Guilin University of Electronic Technology, Guilin, China and also with the Department of Electrical Engineering, Universidad de Chile, Santiago 8370451, Chile. | L25: China, Chile | M25: EN | N25: IEEE | V25: =P25*'Data and TEMP'!$C$13+Q25*'Data and TEMP'!$C$14+R25*'Data and TEMP'!$C$15+S25*'Data and TEMP'!$C$16+T25*'Data and TEMP'!$C$17+U25*'Data and TEMP'!$C$18 -> 0
A26: 25 | B26: 25 | C26: First | D26: Efficient Workload Allocation and User-Centric Utility Maximization for Task Scheduling in Collaborative Vehicular Edge Computing | E26: https://ieeexplore.ieee.org/abstract/document/9372968 | F26: By integrating Mobile Edge Computing (MEC) into vehicular networks, vehicular edge computing extends computing capability to the vehicular network edge and hosts services in close proximity of connected vehicles. Parked Vehicles (PVs) occupy a large portion of the global vehicle and have idle states and resources. They collaborate with the MEC servers for cooperative task processing. This gives rise to a new computing paradigm, called by Collaborative Vehicular Edge Computing ( CVEC ). In CVEC, we introduce an offloading service provider that deploys an MEC server and schedules PVs on demand to handle offloading tasks. Efficient workload allocation and user-centric utility maximization are studied to optimize the network-wide task scheduling. In dynamic environment, offloading destination of each task is determined in a probabilistic manner. When necessary, the offloading service provider represents an offloading user to design a contract based incentive mechanism for the PVs. Based on contract theory and prospect theory, we model the offloading user's subjective evaluations on the utility in computation offloading, and derive an optimal contract to maximize the subjective utility under information asymmetry. Finally, numerical results are provided to demonstrate the effectiveness and efficiency of our scheme. | H26: 3 | I26: Payment | J26: 33 | K26: Xumin Huang; Rong Yu; Dongdong Ye; Lei Shu; Shengli Xie | L26: China, UK | M26: EN | N26: IEEE | V26: =P26*'Data and TEMP'!$C$13+Q26*'Data and TEMP'!$C$14+R26*'Data and TEMP'!$C$15+S26*'Data and TEMP'!$C$16+T26*'Data and TEMP'!$C$17+U26*'Data and TEMP'!$C$18 -> 0
A27: 26 | B27: 26 | C27: First | D27: C-Ports: a proposal for a comprehensive standardization and implementation plan of digital services offered by the "Port of the Future" | E27: https://arxiv.org/abs/2104.13175 | F27: In this paper we address the topic of a possible path to standardize the ICT services expected to be delivered by the socalled “Port of the Future”. A survey of the most relevant technologies and Information Systems used by the Port Communities for their businesses is discussed together with a detailed analysis of the on-going actions carried on by Standard Setting Organizations. Considering the examples given by the C-ITS Platform and the C-Roads programme at EU level, a proposal of contents to be considered in a comprehensive standardization action is proposed. The innovation services are therefore grouped into four bundles: (i) Vessel & Marine Navigation, (ii) e-Freight & (Intermodal) Logistics, (iii) Passenger Transport, (iv) Environmental control. Considering the good practice and the background offered by the Port of Livorno in terms of innovation actions, the prospected final user applications are then labeled as Day 1, Day 1.5, and Day 2 services in consideration of the technical and commercial gaps to be filled. | G27: 44313 | H27: 3 | I27: Free | J27: 0 | K27: P.Pagano | L27: Italy | M27: EN | N27: Cornell University | V27: =P27*'Data and TEMP'!$C$13+Q27*'Data and TEMP'!$C$14+R27*'Data and TEMP'!$C$15+S27*'Data and TEMP'!$C$16+T27*'Data and TEMP'!$C$17+U27*'Data and TEMP'!$C$18 -> 0
A28: 27 | B28: 27 | C28: First | D28: Decades of Internet of Things towards 21st Century: A Research-Based Introspective | E28: https://www.researchsquare.com/article/rs-193005/latest.pdf | F28: Internet connects people to people, people to machine, and machine to machine for a life of serendipity through a Cloud. Internet of Things networks objects or people and integrates them with software to collect and exchange data. The Internet of things (IoT) influences our lives based on how we ruminate, respond, and anticipate. IoT 2020 heralds from the fringes to the data ecosystem and panaches a comfort zone. IoT is overwhelmingly embraced by businessmen and consumers due to increased productivity and convenience. Internet of Things facilitates intelligent device control with cloud vendors like Amazon and Google using artificial intelligence for data analytics, and with digital assistants like Alexa and Siri providing a voice user interface. Smart IoT is all about duplex connecting, processing, and implementing. Centralized IoT architecture is vulnerable to cyber-attacks. With Block Chain, it is possible to maintain transparency and security of the transaction's data. Standardization of IoT devices is achievable with limited vendors based on Platform, Connectivity, and Application. Robotic Process Automation (RPA) using bots has automated laborious tasks in 2019. Embedded Internet using Facial Recognition could reduce the pandemic crisis. Security concerns are addressed with micro-segmentation approaches. IoT, an incredible vision of the future makes systems adaptive with customized features, responsive with increased efficiency, and procurable with optimized cost. This paper delivers a comprehensive insight into the technical perspectives of IoT, focusing on interoperability, flexibility, scalability, mobility, security, transparency, standardization, and low energy. A smart classroom is implemented based on the concepts of IoT | G28: 44197 | H28: 2 | I28: Free | J28: 0 | K28: B. Nagajayanthi | L28: India | M28: EN | N28: Vellore Institute of Technology, Chennai Campus, India | V28: =P28*'Data and TEMP'!$C$13+Q28*'Data and TEMP'!$C$14+R28*'Data and TEMP'!$C$15+S28*'Data and TEMP'!$C$16+T28*'Data and TEMP'!$C$17+U28*'Data and TEMP'!$C$18 -> 0
A29: 28 | B29: 28 | C29: First | D29: The Future with Industry 4.0 at the Core of Society 5.0: Open Issues, Future Opportunities and Challenges | E29: https://ieeexplore.ieee.org/abstract/document/9402498 | F29: Developing technologies, advancement in science, evolving globalized perspectives and the massive dependence on digital platform for a routine sustenance has led to the core building of Industry 4.0. In general, industry 4.0 focuses on the metamorphosis of all industrial components with the help of strong digital support. It's very often interlinked with the successful fourth industrial revolution. It is to be noted that the very fourth outburst of industrialization plunges forward in order to achieve an optimized and sustained form of production. With the uplift of the fourth generation of this stirring revolution, the efficient extraction of advanced informatics analytics along with internetworked machines have grown to a great extent, complementing the digital platform. On the other hand, society 5.0 involves a human centric community which is capable of striking a balance between the economical proliferations and resolving societal liabilities by the core combination of cyber and physical space. Just like how industry 4.0 carries out the digital transformation of every industrial perspective, society 5.0 encourages mundane life to leap towards a digital revamp expanding across different tiers of the community. Indeed, the rapid change of information and Communication Technology along with the portrayal of society 5.0 as a global trend and a key aspect of the Science and Technology Basic plan, the interplay of the two proves to be a constant support for each other. This paper discusses about the future look of industry 4.0 and society 5.0 and elaborates on the challenges and opportunities rooted from them. | G29: 44225 | H29: 2 | I29: Payment | J29: 33 | K29: Meghna M Nair School of Computer Science and Engineering, Vellore Institute of Technology, Chennai, Tamilnadu, India Amit Kumar Tyagi School of Computer Science and Engineering, Vellore Institute of Technology, Chennai, Tamilnadu, India N Sreenath Pondicherry Engineering College, Puducherry, India | L29: India | M29: EN | N29: IEEE | V29: =P29*'Data and TEMP'!$C$13+Q29*'Data and TEMP'!$C$14+R29*'Data and TEMP'!$C$15+S29*'Data and TEMP'!$C$16+T29*'Data and TEMP'!$C$17+U29*'Data and TEMP'!$C$18 -> 0
